BEGIN:VCALENDAR
VERSION:2.0
PRODID:-//Badass Bodyworkers - ECPv6.15.20//NONSGML v1.0//EN
CALSCALE:GREGORIAN
METHOD:PUBLISH
X-WR-CALNAME:Badass Bodyworkers
X-ORIGINAL-URL:https://www.badassbodyworkers.com
X-WR-CALDESC:Events for Badass Bodyworkers
REFRESH-INTERVAL;VALUE=DURATION:PT1H
X-Robots-Tag:noindex
X-PUBLISHED-TTL:PT1H
BEGIN:VTIMEZONE
TZID:UTC
BEGIN:STANDARD
TZOFFSETFROM:+0000
TZOFFSETTO:+0000
TZNAME:UTC
DTSTART:20250101T000000
END:STANDARD
END:VTIMEZONE
BEGIN:VEVENT
DTSTART;TZID=UTC:20260518T090000
DTEND;TZID=UTC:20260521T180000
DTSTAMP:20260424T074819
CREATED:20251124T204955Z
LAST-MODIFIED:20251124T204955Z
UID:10155199-1779094800-1779386400@www.badassbodyworkers.com
SUMMARY:Intermediate + ROM Intensive Training: 2 Barefoot Massage classes blended together!
DESCRIPTION:Prerequisites: FasciAshi Fundamentals is required\, Previous attendance in FasciAshi Intermediate and/or ROM is recommended\n\nSpend 4 days learning the content from our FasciAshi Intermediate and Range of Motion/Stretch Therapy classes in a seamless blend: Only available with Jeni Spring.  Not just back-to-back classes\, over the course of these four days you’ll learn a full protocol used by Jeni Spring at Heeling Sole with her clients. This is a great way to learn the work from two classes in an order that makes sense\, and not have to do the work of figuring out how to blend them on your own.
URL:https://www.badassbodyworkers.com/event/intermediate-rom-intensive-training-2-barefoot-massage-classes-blended-together/
LOCATION:The Center for Barefoot Massage: San Antonio Campus\, 12915 JOnes-Maltsberger Rd #603\, san antonio\, TX\, 78247\, United States
ATTACH;FMTTYPE=image/jpeg:https://www.badassbodyworkers.com/wp-content/uploads/2025/11/cbmbanner-2.jpeg
ORGANIZER;CN="Jeni Spring%2C LMT%2C MTI%2C BCSI":MAILTO:Jeni@CenterForBarefootMassage.com
END:VEVENT
END:VCALENDAR