BEGIN:VCALENDAR
VERSION:2.0
PRODID:-//Badass Bodyworkers - ECPv6.15.20//NONSGML v1.0//EN
CALSCALE:GREGORIAN
METHOD:PUBLISH
X-ORIGINAL-URL:https://www.badassbodyworkers.com
X-WR-CALDESC:Events for Badass Bodyworkers
REFRESH-INTERVAL;VALUE=DURATION:PT1H
X-Robots-Tag:noindex
X-PUBLISHED-TTL:PT1H
BEGIN:VTIMEZONE
TZID:UTC
BEGIN:STANDARD
TZOFFSETFROM:+0000
TZOFFSETTO:+0000
TZNAME:UTC
DTSTART:20240101T000000
END:STANDARD
END:VTIMEZONE
BEGIN:VTIMEZONE
TZID:America/Chicago
BEGIN:DAYLIGHT
TZOFFSETFROM:-0600
TZOFFSETTO:-0500
TZNAME:CDT
DTSTART:20240310T080000
END:DAYLIGHT
BEGIN:STANDARD
TZOFFSETFROM:-0500
TZOFFSETTO:-0600
TZNAME:CST
DTSTART:20241103T070000
END:STANDARD
BEGIN:DAYLIGHT
TZOFFSETFROM:-0600
TZOFFSETTO:-0500
TZNAME:CDT
DTSTART:20250309T080000
END:DAYLIGHT
BEGIN:STANDARD
TZOFFSETFROM:-0500
TZOFFSETTO:-0600
TZNAME:CST
DTSTART:20251102T070000
END:STANDARD
BEGIN:DAYLIGHT
TZOFFSETFROM:-0600
TZOFFSETTO:-0500
TZNAME:CDT
DTSTART:20260308T080000
END:DAYLIGHT
BEGIN:STANDARD
TZOFFSETFROM:-0500
TZOFFSETTO:-0600
TZNAME:CST
DTSTART:20261101T070000
END:STANDARD
END:VTIMEZONE
BEGIN:VEVENT
DTSTART;TZID=UTC:20250310T090000
DTEND;TZID=UTC:20250311T160000
DTSTAMP:20260424T090732
CREATED:20250204T192628Z
LAST-MODIFIED:20250204T202549Z
UID:10000015-1741597200-1741708800@www.badassbodyworkers.com
SUMMARY:Thai Sole Therapy: The Art of Thai Massage
DESCRIPTION:Discover the Thai approach to foot therapy! In this class\, you’ll learn how to skillfully use your hands\, fingers\, thumbs\, knuckles\, and specialized tools to stimulate pressure points on the feet and release blocked energy along the body’s Sens lines. Thai Foot Massage offers benefits not only for the client but also for the practitioner\, as you’ll be taught body mechanics that help reduce strain on your hands and thumbs. Along with mastering the foot massage technique\, you’ll also experience luxurious foot baths with salts and exfoliations. Plus\, you’ll learn how to create your own custom foot soak blends. This method doesn’t just treat the feet—it has a positive effect on the entire body. Expand your practice with this step-by-step system and add a valuable new service to your menu!
URL:https://www.badassbodyworkers.com/event/thai-sole-therapy-the-art-of-thai-foot-massage/
LOCATION:Latitude Massage\, 941 Glenwood Station Lane\, Suite 302\, Charlottesville\, VA\, 22901\, United States
ATTACH;FMTTYPE=image/jpeg:https://www.badassbodyworkers.com/wp-content/uploads/2025/02/Event-Image-Thai-Sole-Therapy-1.jpg
ORGANIZER;CN="Apex Retreat Seminars":MAILTO:badassbodyworkers@gmail.com
END:VEVENT
BEGIN:VEVENT
DTSTART;TZID=America/Chicago:20250323T090000
DTEND;TZID=America/Chicago:20250325T180000
DTSTAMP:20260424T090732
CREATED:20241231T142457Z
LAST-MODIFIED:20241231T142457Z
UID:10000005-1742720400-1742925600@www.badassbodyworkers.com
SUMMARY:A Cancer's Journey in Wimberley\, Texas
DESCRIPTION:24 CE Hours\, Texas\, NCTMB\, and Society For Oncology Massage approved course.\nMultiple studies now link gentle non-invasive massage for people affected by cancer with significant reductions in pain\, fatigue\, nausea\, depression\, and anxiety.1 If that statement excites you please come join this series of courses on Oncology Massage. We will navigate through the framework of an oncology massage such as pressure adjustments\, site considerations on the body\, and position adjustments for our clients. On our last day we will discuss and problem solve ways we can help assist our clients after they are “finished” with their active cancer treatments.     This class will enhance any massage therapist practice!\nResearch article:\n1 http://www.s4om.org/onc-massage-research/item/intro-to-oncology-massage-research\nWe will navigate through the framework of an oncology massage such as pressure adjustments\, site considerations on the body\, and positional adjustments for our clients.  We will explore: Massage as a complementary alternative to help combat side effects of allopathic cancer treatment; Adjusted palliative care – physiology\, psychology and pathology (possible contraindications) and medications that can affect treatment planning (pre and post).
URL:https://www.badassbodyworkers.com/event/a-cancers-journey-in-wimberley-texas/
ATTACH;FMTTYPE=image/jpeg:https://www.badassbodyworkers.com/wp-content/uploads/2024/12/OM-Retreat-in-Wimberley.jpg
ORGANIZER;CN="Emerald Bodywork Education":MAILTO:emeraldbodyworkeducation@gmail.com
END:VEVENT
END:VCALENDAR