BEGIN:VCALENDAR
VERSION:2.0
PRODID:-//Badass Bodyworkers - ECPv6.15.20//NONSGML v1.0//EN
CALSCALE:GREGORIAN
METHOD:PUBLISH
X-WR-CALNAME:Badass Bodyworkers
X-ORIGINAL-URL:https://www.badassbodyworkers.com
X-WR-CALDESC:Events for Badass Bodyworkers
REFRESH-INTERVAL;VALUE=DURATION:PT1H
X-Robots-Tag:noindex
X-PUBLISHED-TTL:PT1H
BEGIN:VTIMEZONE
TZID:UTC
BEGIN:STANDARD
TZOFFSETFROM:+0000
TZOFFSETTO:+0000
TZNAME:UTC
DTSTART:20250101T000000
END:STANDARD
END:VTIMEZONE
BEGIN:VEVENT
DTSTART;TZID=UTC:20260605T090000
DTEND;TZID=UTC:20260606T160000
DTSTAMP:20260420T145441
CREATED:20260316T232426Z
LAST-MODIFIED:20260316T232426Z
UID:10162860-1780650000-1780761600@www.badassbodyworkers.com
SUMMARY:Infant Massage Advanced Certification (CIMT® II)
DESCRIPTION:Minneapolis • June 5–6\, 2026 \nThe Liddle Kidz® Foundation is bringing its internationally respected Certified Infant Massage Teacher (CIMT® II) Advanced Certification training to Minneapolis in June 2026. \nThis immersive course is designed for massage therapists and healthcare professionals who want to deepen their expertise in infant massage and specialized touch therapy for babies with complex healthcare needs. \nUnlike foundational infant massage courses that focus on healthy infants\, CIMT® II is an advanced training specifically designed for professionals working with infants in special healthcare populations\, including NICU\, NICU graduates\, premature infants\, and babies experiencing developmental or medical challenges. \nParticipants learn advanced techniques and clinical adaptations that support medically fragile infants\, while also learning how to confidently teach parents and caregivers nurturing touch techniques that promote bonding\, regulation\, and early development. \nTrain with the Global Leader in Infant Massage\nThis course is taught personally by Tina Allen\, founder of the Liddle Kidz® Foundation and one of the world’s most recognized leaders in infant massage and pediatric touch therapy. \nWith 25+ years of experience\, Tina has trained professionals and helped implement infant and pediatric touch therapy programs in 200+ hospitals worldwide\, including: \n• Stanford Children’s Health• St. Jude Children’s Research Hospital• Children’s Hospital of Philadelphia (CHOP)• UCSF Benioff Children’s Hospital• University of Maryland Medical Center \nHer work has helped integrate nurturing touch into NICUs\, pediatric hospitals\, early intervention programs\, and family-centered healthcare settings worldwide. \nWhat You Will Gain\n• Advanced infant massage techniques for special healthcare populations• Techniques and adaptations for NICU\, NICU graduates\, and premature infants• Clinical approaches for infants experiencing NAS (Neonatal Abstinence Syndrome) and FASD (Fetal Alcohol Spectrum Disorders)• Strategies for working with infants with Down Syndrome and Cerebral Palsy• Understanding muscle tone differences (hypertonicity / hypotonicity) and early contracture concerns• Touch therapy techniques for sensory differences and neurological underdevelopment• Methods for supporting infants with feeding\, respiratory\, and cardiac challenges• Teaching strategies to help parents confidently provide nurturing touch at home \nYou will leave with techniques you can immediately integrate into your professional practice and infant massage education programs. \nWhat Massage Therapists Say\n“I cannot recommend this enough! I learned and continue to learn\, and feel deeply inspired by this training/company and Tina Allen.  A blessing to our industry.” \nL. Dee Caravia\, LMT \nCertification Benefits\nWhen you train with Liddle Kidz®\, you receive: \n• Internationally recognized CIMT® II certification• Hands-on advanced training you can immediately apply• CE/CEH/CEUs available (NCBTMB\, NYS\, CE Broker and more)• Lifetime access to course materials and updates• No annual recertification fees — ever• Return-to-Learn Guarantee allowing you to revisit training in the future• Complimentary Virtual Knowledge Vault with extensive infant clinical resources ($500 value) \nRare In-Person Training Opportunity\nIn-person courses with Tina Allen are offered only a few times each year and typically fill quickly. \nLocation: Minneapolis\, MinnesotaDates: June 5–6\, 2026 \nEarly registration is strongly encouraged. \nBABS Members: Use code BABSROCK10 for your exclusive discount. \nLearn More & Register\nFull details and registration: \nhttps://www.liddlekidz.org/minneapolis-2026-courses/ \nAll upcoming trainings: \nhttps://www.liddlekidz.org/in-person-courses/
URL:https://www.badassbodyworkers.com/event/infant-massage-advanced-certification-cimt-ii/
ATTACH;FMTTYPE=image/jpeg:https://www.badassbodyworkers.com/wp-content/uploads/2026/03/Liddle-Kidz-Minneapolis-2026.jpg
ORGANIZER;CN="Liddle Kidz%C2%AE Foundation":MAILTO:hello@liddlekidz.org
END:VEVENT
END:VCALENDAR