BEGIN:VCALENDAR
VERSION:2.0
PRODID:-//Badass Bodyworkers - ECPv6.15.20//NONSGML v1.0//EN
CALSCALE:GREGORIAN
METHOD:PUBLISH
X-ORIGINAL-URL:https://www.badassbodyworkers.com
X-WR-CALDESC:Events for Badass Bodyworkers
REFRESH-INTERVAL;VALUE=DURATION:PT1H
X-Robots-Tag:noindex
X-PUBLISHED-TTL:PT1H
BEGIN:VTIMEZONE
TZID:UTC
BEGIN:STANDARD
TZOFFSETFROM:+0000
TZOFFSETTO:+0000
TZNAME:UTC
DTSTART:20230101T000000
END:STANDARD
END:VTIMEZONE
BEGIN:VEVENT
DTSTART;TZID=UTC:20250331T093000
DTEND;TZID=UTC:20250331T153000
DTSTAMP:20260420T080809
CREATED:20250204T135243Z
LAST-MODIFIED:20250204T135243Z
UID:10000335-1743413400-1743435000@www.badassbodyworkers.com
SUMMARY:Facial Gua Sha Fundamentals
DESCRIPTION:Facial Gua Sha Fundamentals is a comprehensive foundation course designed to introduce you to the art and principles of facial Gua Sha. In this class\, you’ll master gentle\, restorative Gua Sha techniques for the décolleté\, face\, scalp\, neck\, and shoulders—targeting tension\, headaches\, and tight facial muscles. You’ll also learn effective lymphatic drainage methods to decongest the face and neck\, along with the use of plant-based oils for a soothing and nourishing facial massage.\n\n 𝐘𝐨𝐮𝐫 𝐭𝐫𝐚𝐢𝐧𝐢𝐧𝐠 𝐤𝐢𝐭 𝐢𝐧𝐜𝐥𝐮𝐝𝐞𝐬: the print book Luminous Skin: Aromatherapy for Healthy Skin and Facial Gua Sha\, a beautiful Gua Sha board\, and a set of mushroom stones—everything you need to begin your facial Gua Sha journey.**5 CEs for Massage Therapists NCBTMB and Licensensed Esthiticians in NC\n\n 𝑵𝑶𝑻𝑬: 𝑭𝒂𝒄𝒊𝒂𝒍 𝑮𝒖𝒂 𝑺𝒉𝒂 𝑭𝒖𝒏𝒅𝒂𝒎𝒆𝒏𝒕𝒂𝒍𝒔 𝒊𝒔 𝒂𝒏 𝒆𝒙𝒄𝒆𝒍𝒍𝒆𝒏𝒕 𝒇𝒐𝒖𝒏𝒅𝒂𝒕𝒊𝒐𝒏𝒂𝒍 𝒄𝒐𝒖𝒓𝒔𝒆 𝒕𝒉𝒂𝒕 𝒄𝒐𝒎𝒑𝒍𝒆𝒎𝒆𝒏𝒕𝒔 𝒂𝒅𝒗𝒂𝒏𝒄𝒆𝒅 𝒕𝒓𝒆𝒂𝒕𝒎𝒆𝒏𝒕𝒔 𝒍𝒊𝒌𝒆 𝑻𝑪𝑴: 𝑩𝒐𝒋𝒊𝒏 𝑭𝒂𝒄𝒊𝒂𝒍 𝑴𝒆𝒓𝒊𝒅𝒊𝒂𝒏 𝑻𝒉𝒆𝒓𝒂𝒑𝒚 𝒂𝒏𝒅 𝒕𝒉𝒆 𝑻𝒉𝒂𝒊 𝑯𝒆𝒓𝒃𝒂𝒍 𝑭𝒂𝒄𝒊𝒂𝒍 𝑷𝒐𝒖𝒍𝒕𝒊𝒄𝒆 𝒄𝒍𝒂𝒔𝒔. 𝑻𝒉𝒆𝒔𝒆 𝒕𝒆𝒄𝒉𝒏𝒊𝒒𝒖𝒆𝒔 𝒘𝒐𝒓𝒌 𝒔𝒚𝒏𝒆𝒓𝒈𝒊𝒔𝒕𝒊𝒄𝒂𝒍𝒍𝒚 𝒕𝒐 𝒆𝒏𝒉𝒂𝒏𝒄𝒆 𝒇𝒂𝒄𝒊𝒂𝒍 𝒓𝒆𝒋𝒖𝒗𝒆𝒏𝒂𝒕𝒊𝒐𝒏\, 𝒑𝒓𝒐𝒎𝒐𝒕𝒆 𝒍𝒚𝒎𝒑𝒉𝒂𝒕𝒊𝒄 𝒅𝒓𝒂𝒊𝒏𝒂𝒈𝒆\, 𝒂𝒏𝒅 𝒓𝒆𝒍𝒊𝒆𝒗𝒆 𝒕𝒆𝒏𝒔𝒊𝒐𝒏\, 𝒐𝒇𝒇𝒆𝒓𝒊𝒏𝒈 𝒂 𝒘𝒆𝒍𝒍-𝒓𝒐𝒖𝒏𝒅𝒆𝒅 𝒂𝒑𝒑𝒓𝒐𝒂𝒄𝒉 𝒕𝒐 𝒇𝒂𝒄𝒊𝒂𝒍 𝒄𝒂𝒓𝒆. 𝑩𝒚 𝒆𝒙𝒑𝒂𝒏𝒅𝒊𝒏𝒈 𝒚𝒐𝒖𝒓 𝒕𝒓𝒂𝒊𝒏𝒊𝒏𝒈\, 𝒚𝒐𝒖’𝒍𝒍 𝒃𝒆 𝒃𝒆𝒕𝒕𝒆𝒓 𝒆𝒒𝒖𝒊𝒑𝒑𝒆𝒅 𝒕𝒐 𝒅𝒆𝒍𝒊𝒗𝒆𝒓 𝒎𝒐𝒓𝒆 𝒄𝒐𝒎𝒑𝒓𝒆𝒉𝒆𝒏𝒔𝒊𝒗𝒆 𝒂𝒏𝒅 𝒕𝒂𝒊𝒍𝒐𝒓𝒆𝒅 𝒔𝒆𝒔𝒔𝒊𝒐𝒏𝒔 𝒇𝒐𝒓 𝒚𝒐𝒖𝒓 𝒄𝒍𝒊𝒆𝒏𝒕𝒔.
URL:https://www.badassbodyworkers.com/event/facial-gua-sha-fundamentals/
LOCATION:Apex Retreat\, 309 S. Elm St.\, Apex\, NC\, 27502\, United States
ATTACH;FMTTYPE=image/jpeg:https://www.badassbodyworkers.com/wp-content/uploads/2025/02/Facial-Gua-Sha-Fundamentals-Class.jpg
ORGANIZER;CN="Apex Retreat Seminars":MAILTO:badassbodyworkers@gmail.com
END:VEVENT
BEGIN:VEVENT
DTSTART;TZID=UTC:20250317T093000
DTEND;TZID=UTC:20250317T170000
DTSTAMP:20260420T080809
CREATED:20250204T181710Z
LAST-MODIFIED:20250204T181710Z
UID:10000013-1742203800-1742230800@www.badassbodyworkers.com
SUMMARY:Gua Sha Fundamentals (For the Body)
DESCRIPTION:Learn the direct hands-on approach to the safe and effective practice of Gua sha!\n\n\n\n\n\n\n\n\n\n\n\n\n\n\nBecome skilled in body Gua Sha.\nLearn proper body mechanics when performing scraping techniques.\nTreat the body and combat common neuromuscular complaints.\nAdd a new technique to your toolbox and save your hands!\n\nGua Sha\, an ancient healing method that uses a tool to scrape to alleviate many discomforts including chronic pain and fascial restrictions in the body. Learn the direct hands-on approach to the safe and effective practice of Gua sha on the body. Enhance your treatment outcomes by incorporating this modality when indicated. Included in the course is a PDF guide for future reference and a Gua Sha tool to take home. After training\, students will have the ability to add Gua Sha to their bodywork tool box. \n8 CEs for Massage Therapists NCBTMB & Florida\, Georgia & Approved
URL:https://www.badassbodyworkers.com/event/gua-sha-fundamentals-for-the-body-2/
LOCATION:Hands On Health Massage Therapy & Wellness\, 7980 Chapel Hill Road Ste. 125\, Cary\, NC\, 27513\, United States
ATTACH;FMTTYPE=image/png:https://www.badassbodyworkers.com/wp-content/uploads/2025/02/Gua-Sha-Training.png
ORGANIZER;CN="Apex Retreat Seminars":MAILTO:badassbodyworkers@gmail.com
END:VEVENT
BEGIN:VEVENT
DTSTART;TZID=UTC:20241209T090000
DTEND;TZID=UTC:20241210T160000
DTSTAMP:20260420T080809
CREATED:20240923T191841Z
LAST-MODIFIED:20240923T191841Z
UID:10000323-1733734800-1733846400@www.badassbodyworkers.com
SUMMARY:Holistic Aromatherapy For Bodyworkers
DESCRIPTION:Apex\, NC \n\nDate: Monday & Tuesday\, December 9th & 10th 2024\nTime: 9:00 AM- 6:00 PM\nLocation: Apex Retreat- 309 S. Elm St.\, Apex\, NC 27513\n\n\n\nLimited space available due to supplies. Now accepting registrations!\n\n16 CE Hours\n\nEnhance your skill set and grow your practice with essential oil knowledge!\nJoin our comprehensive “Holistic Aromatherapy for Bodyworkers” class and receive a solid foundation in aromatherapy from a Certified Aromatherapist. This course is designed to empower you with the knowledge and confidence to integrate essential oils into your practice\, creating customized blends to enhance your clients’ well-being. \nIn this class\, you will:\n\n– Learn the applications of aromatherapy: Discover how to create custom blends tailored to your clients’ needs.\n– Understand the basic chemistry of essential oils: Gain insights into 21 essential oil profiles and their properties.\n– Engage in hands-on projects: Make and take home massage oils\, inhalers\, exfoliating scrubs\, bath salts\, and massage butter.\nWhat’s included:\n\n– All necessary materials\, including ingredients to formulate products\, containers\, and recipes.\n– A comprehensive 200-page book: *Holistic Aromatherapy for Bodyworkers*.\n\nExpand your expertise and offer your clients the benefits of personalized aromatherapy with confidence and creativity. Secure your spot today and take your practice to the next level!
URL:https://www.badassbodyworkers.com/event/holistic-aromatherapy-for-bodyworkers/
LOCATION:Apex Retreat\, 309 S. Elm St.\, Apex\, NC\, 27502\, United States
ATTACH;FMTTYPE=image/png:https://www.badassbodyworkers.com/wp-content/uploads/2024/09/Class-Flyers-2.png
ORGANIZER;CN="Fernanda Santiago":MAILTO:info@healingfeelsgood.com
END:VEVENT
BEGIN:VEVENT
DTSTART;TZID=UTC:20241111T090000
DTEND;TZID=UTC:20241112T170000
DTSTAMP:20260420T080809
CREATED:20240923T190757Z
LAST-MODIFIED:20240923T190757Z
UID:10000321-1731315600-1731430800@www.badassbodyworkers.com
SUMMARY:Comprehensive Table Thai Massage
DESCRIPTION:Can you give Thai Massage on a Table? You absolutely can! \n\nDate: Monday/Tuesday November 11th & 12th\, 2024\nTime: 9:30 AM-4:30 PM\nLocation: Apex Retreat Seminars: 309 S. Elm St.\, Apex\, NC 27502\n\nBecome proficient in Table Thai Massage! \n  \nThis class will cover many techniques and variations to enhance your massage sessions and save your body. We will teach you ways to adapt specific Thai Massage techniques into your table sessions. \n\nWe will cover the 4 positions in Thai Massage: Supine\, Prone\, Side-Lying and Seated plus acupressure techniques.\nLearn how to use elbows\, knees\, feet and Thai body mechanics to save your hands while helping your clients release myofascial tension.\n\n12 CEs for Massage Therapists NCBTMB
URL:https://www.badassbodyworkers.com/event/comprehensive-table-thai-massage/
LOCATION:Apex Retreat\, 309 S. Elm St.\, Apex\, NC\, 27502\, United States
ATTACH;FMTTYPE=image/jpeg:https://www.badassbodyworkers.com/wp-content/uploads/2024/09/8.jpg
ORGANIZER;CN="Fernanda Santiago":MAILTO:info@healingfeelsgood.com
END:VEVENT
END:VCALENDAR