BEGIN:VCALENDAR
VERSION:2.0
PRODID:-//Badass Bodyworkers - ECPv6.15.20//NONSGML v1.0//EN
CALSCALE:GREGORIAN
METHOD:PUBLISH
X-ORIGINAL-URL:https://www.badassbodyworkers.com
X-WR-CALDESC:Events for Badass Bodyworkers
REFRESH-INTERVAL;VALUE=DURATION:PT1H
X-Robots-Tag:noindex
X-PUBLISHED-TTL:PT1H
BEGIN:VTIMEZONE
TZID:UTC
BEGIN:STANDARD
TZOFFSETFROM:+0000
TZOFFSETTO:+0000
TZNAME:UTC
DTSTART:20240101T000000
END:STANDARD
END:VTIMEZONE
BEGIN:VEVENT
DTSTART;TZID=UTC:20250128T100000
DTEND;TZID=UTC:20250128T170000
DTSTAMP:20260425T102802
CREATED:20241222T212755Z
LAST-MODIFIED:20241222T212755Z
UID:10000003-1738058400-1738083600@www.badassbodyworkers.com
SUMMARY:Rebalancing the Lower Back and Hips.
DESCRIPTION:Often referred to as the ‘Core‘\, this region’s state of balance influences the entire body’s health. \nThis 6-hour class focuses on corrective massage techniques for rebalancing regional muscles that often play a central role in maintaining balance and pain-free movement in the Lower Back and Hip region.
URL:https://www.badassbodyworkers.com/event/rebalancing-the-lower-back-and-hips/
LOCATION:Yugen Wellness Center. 4455 S 700 E #201\, Salt Lake City\, UT 84107\, 4455 S 700 E #201\, Salt Lake City\, UT\, 84107\, United States
ATTACH;FMTTYPE=image/jpeg:https://www.badassbodyworkers.com/wp-content/uploads/2024/12/SLC-Lower-back-and-hips-class-SLC.jpg
ORGANIZER;CN="Julia Huldin":MAILTO:info@massavinci.com
END:VEVENT
END:VCALENDAR