BEGIN:VCALENDAR
VERSION:2.0
PRODID:-//Badass Bodyworkers - ECPv6.15.20//NONSGML v1.0//EN
CALSCALE:GREGORIAN
METHOD:PUBLISH
X-WR-CALNAME:Badass Bodyworkers
X-ORIGINAL-URL:https://www.badassbodyworkers.com
X-WR-CALDESC:Events for Badass Bodyworkers
REFRESH-INTERVAL;VALUE=DURATION:PT1H
X-Robots-Tag:noindex
X-PUBLISHED-TTL:PT1H
BEGIN:VTIMEZONE
TZID:America/Denver
BEGIN:DAYLIGHT
TZOFFSETFROM:-0700
TZOFFSETTO:-0600
TZNAME:MDT
DTSTART:20230312T090000
END:DAYLIGHT
BEGIN:STANDARD
TZOFFSETFROM:-0600
TZOFFSETTO:-0700
TZNAME:MST
DTSTART:20231105T080000
END:STANDARD
BEGIN:DAYLIGHT
TZOFFSETFROM:-0700
TZOFFSETTO:-0600
TZNAME:MDT
DTSTART:20240310T090000
END:DAYLIGHT
BEGIN:STANDARD
TZOFFSETFROM:-0600
TZOFFSETTO:-0700
TZNAME:MST
DTSTART:20241103T080000
END:STANDARD
BEGIN:DAYLIGHT
TZOFFSETFROM:-0700
TZOFFSETTO:-0600
TZNAME:MDT
DTSTART:20250309T090000
END:DAYLIGHT
BEGIN:STANDARD
TZOFFSETFROM:-0600
TZOFFSETTO:-0700
TZNAME:MST
DTSTART:20251102T080000
END:STANDARD
END:VTIMEZONE
BEGIN:VEVENT
DTSTART;TZID=America/Denver:20241202T080000
DTEND;TZID=America/Denver:20241202T160000
DTSTAMP:20260420T011315
CREATED:20240227T142357Z
LAST-MODIFIED:20240227T142357Z
UID:10000283-1733126400-1733155200@www.badassbodyworkers.com
SUMMARY:7 Steps to Grow a Successful Massage Business Online (8 CEUs)
DESCRIPTION:Business Class\n\n\n\nAre you booked out a month?\n\nIn this class\, we will bring success-oriented business owners and provide a forum to learn new business skills focused on improving your businesses in various areas in the business \nIt’s a learning and sharing environment that develops you as the owner\, both personally and professionally You will learn to become comfortable with a variety of tools and practices to include in your business. \nThere will be discussions and techniques to build strong business strategies by discussing and working on topics such as; \n  \n\nBusiness Development\nFinance & Budgeting\nMarketing\nCustomer Care & Retention\nand much more.\n\n  \nRegister Today or Schedule a Business Assessment with Davonna!
URL:https://www.badassbodyworkers.com/event/7-steps-to-grow-a-successful-massage-business-online-8-ceus/
LOCATION:Virtual Class – Meeting link will be provided\, United States
END:VEVENT
END:VCALENDAR